BEGIN:VCALENDAR
VERSION:2.0
PRODID:-//Deutsche Volksfeste - ECPv6.8.3//NONSGML v1.0//EN
CALSCALE:GREGORIAN
METHOD:PUBLISH
X-WR-CALNAME:Deutsche Volksfeste
X-ORIGINAL-URL:https://deutsche-volksfeste.de
X-WR-CALDESC:Veranstaltungen für Deutsche Volksfeste
REFRESH-INTERVAL;VALUE=DURATION:PT1H
X-Robots-Tag:noindex
X-PUBLISHED-TTL:PT1H
BEGIN:VTIMEZONE
TZID:Europe/Helsinki
BEGIN:DAYLIGHT
TZOFFSETFROM:+0200
TZOFFSETTO:+0300
TZNAME:EEST
DTSTART:20260329T010000
END:DAYLIGHT
BEGIN:STANDARD
TZOFFSETFROM:+0300
TZOFFSETTO:+0200
TZNAME:EET
DTSTART:20261025T010000
END:STANDARD
END:VTIMEZONE
BEGIN:VEVENT
DTSTART;VALUE=DATE:20260327
DTEND;VALUE=DATE:20260427
DTSTAMP:20260421T151626
CREATED:20250902T171422Z
LAST-MODIFIED:20250902T171422Z
UID:127921-1774569600-1777247999@deutsche-volksfeste.de
SUMMARY:576. Frühjahrsmesse\, Magdeburg
DESCRIPTION:Geöffnet Mittwoch bis Sonntag & Ostermontag\, 06.04.2025
URL:https://deutsche-volksfeste.de/volksfesttermine/576-fruehjahrsmesse-magdeburg
CATEGORIES:2026
END:VEVENT
BEGIN:VEVENT
DTSTART;VALUE=DATE:20260328
DTEND;VALUE=DATE:20260504
DTSTAMP:20260421T151626
CREATED:20251117T180624Z
LAST-MODIFIED:20251117T180624Z
UID:131263-1774656000-1777852799@deutsche-volksfeste.de
SUMMARY:54. Frühlingsfest\, Berlin
DESCRIPTION:
URL:https://deutsche-volksfeste.de/volksfesttermine/54-fruehlingsfest-berlin
CATEGORIES:2026
END:VEVENT
BEGIN:VEVENT
DTSTART;VALUE=DATE:20260404
DTEND;VALUE=DATE:20260427
DTSTAMP:20260421T151626
CREATED:20250812T112143Z
LAST-MODIFIED:20260121T184943Z
UID:127150-1775260800-1777247999@deutsche-volksfeste.de
SUMMARY:Frühlingsfest\, Hannover
DESCRIPTION:
URL:https://deutsche-volksfeste.de/volksfesttermine/fruehlingsfest-hannover-8
CATEGORIES:2026
ATTACH;FMTTYPE=image/jpeg:https://deutsche-volksfeste.de/wp-content/uploads/2025/03/P1091815.jpg
END:VEVENT
BEGIN:VEVENT
DTSTART;VALUE=DATE:20260404
DTEND;VALUE=DATE:20260427
DTSTAMP:20260421T151626
CREATED:20250826T152825Z
LAST-MODIFIED:20260121T185316Z
UID:127574-1775260800-1777247999@deutsche-volksfeste.de
SUMMARY:Frühlingsfest\, Nürnberg
DESCRIPTION:
URL:https://deutsche-volksfeste.de/volksfesttermine/fruehlingsfest-nuernberg-10
CATEGORIES:2026
ATTACH;FMTTYPE=image/jpeg:https://deutsche-volksfeste.de/wp-content/uploads/2021/07/P1180759.jpg
END:VEVENT
BEGIN:VEVENT
DTSTART;VALUE=DATE:20260404
DTEND;VALUE=DATE:20260511
DTSTAMP:20260421T151626
CREATED:20251020T092231Z
LAST-MODIFIED:20251020T092231Z
UID:129604-1775260800-1778457599@deutsche-volksfeste.de
SUMMARY:Frühjahrskleinmesse\, Leipzig
DESCRIPTION:Montag und Dienstag geschlossen außer Feiertage
URL:https://deutsche-volksfeste.de/volksfesttermine/fruehjahrskleinmesse-leipzig-9
CATEGORIES:2026
END:VEVENT
BEGIN:VEVENT
DTSTART;VALUE=DATE:20260404
DTEND;VALUE=DATE:20260504
DTSTAMP:20260421T151626
CREATED:20251119T165546Z
LAST-MODIFIED:20251119T165639Z
UID:131373-1775260800-1777852799@deutsche-volksfeste.de
SUMMARY:Frühlingsfest\, Dresden
DESCRIPTION:mit Ruhetagen
URL:https://deutsche-volksfeste.de/volksfesttermine/fruehlingsfest-dresden-8
CATEGORIES:2026
END:VEVENT
BEGIN:VEVENT
DTSTART;VALUE=DATE:20260417
DTEND;VALUE=DATE:20260511
DTSTAMP:20260421T151626
CREATED:20250711T184011Z
LAST-MODIFIED:20260121T185833Z
UID:125805-1776384000-1778457599@deutsche-volksfeste.de
SUMMARY:60. Frühlingsfest\, München
DESCRIPTION:
URL:https://deutsche-volksfeste.de/volksfesttermine/60-fruehlingsfest-muenchen
CATEGORIES:2026
ATTACH;FMTTYPE=image/jpeg:https://deutsche-volksfeste.de/wp-content/uploads/2022/05/20220430_130657.jpg
END:VEVENT
BEGIN:VEVENT
DTSTART;VALUE=DATE:20260417
DTEND;VALUE=DATE:20260427
DTSTAMP:20260421T151626
CREATED:20250812T112446Z
LAST-MODIFIED:20250812T112446Z
UID:127152-1776384000-1777247999@deutsche-volksfeste.de
SUMMARY:640. Frühjahrsdult\, Landshut
DESCRIPTION:
URL:https://deutsche-volksfeste.de/volksfesttermine/640-fruehjahrsdult-landshut
CATEGORIES:2026
END:VEVENT
BEGIN:VEVENT
DTSTART;VALUE=DATE:20260417
DTEND;VALUE=DATE:20260428
DTSTAMP:20260421T151626
CREATED:20250902T174030Z
LAST-MODIFIED:20250902T174030Z
UID:127953-1776384000-1777334399@deutsche-volksfeste.de
SUMMARY:Gerner Dult\, Eggenfelden
DESCRIPTION:
URL:https://deutsche-volksfeste.de/volksfesttermine/gerner-dult-eggenfelden-8
CATEGORIES:2026
END:VEVENT
BEGIN:VEVENT
DTSTART;VALUE=DATE:20260417
DTEND;VALUE=DATE:20260504
DTSTAMP:20260421T151626
CREATED:20250924T171436Z
LAST-MODIFIED:20250924T171436Z
UID:128714-1776384000-1777852799@deutsche-volksfeste.de
SUMMARY:Frühjahrsmesse\, Braunschweig
DESCRIPTION:
URL:https://deutsche-volksfeste.de/volksfesttermine/fruehjahrsmesse-braunschweig-7
CATEGORIES:2026
END:VEVENT
BEGIN:VEVENT
DTSTART;VALUE=DATE:20260417
DTEND;VALUE=DATE:20260504
DTSTAMP:20260421T151626
CREATED:20251102T091234Z
LAST-MODIFIED:20251102T091234Z
UID:130690-1776384000-1777852799@deutsche-volksfeste.de
SUMMARY:Frühjahrsmesse\, Braunschweig
DESCRIPTION:
URL:https://deutsche-volksfeste.de/volksfesttermine/fruehjahrsmesse-braunschweig-8
CATEGORIES:2026
END:VEVENT
BEGIN:VEVENT
DTSTART;VALUE=DATE:20260417
DTEND;VALUE=DATE:20260427
DTSTAMP:20260421T151626
CREATED:20251207T165956Z
LAST-MODIFIED:20251207T165956Z
UID:131728-1776384000-1777247999@deutsche-volksfeste.de
SUMMARY:Frühjahrsmarkt\, Kiel
DESCRIPTION:
URL:https://deutsche-volksfeste.de/volksfesttermine/fruehjahrsmarkt-kiel
CATEGORIES:2026
END:VEVENT
BEGIN:VEVENT
DTSTART;VALUE=DATE:20260418
DTEND;VALUE=DATE:20260427
DTSTAMP:20260421T151626
CREATED:20250814T095555Z
LAST-MODIFIED:20260125T091433Z
UID:127178-1776470400-1777247999@deutsche-volksfeste.de
SUMMARY:Lunapark\, Paderborn
DESCRIPTION:
URL:https://deutsche-volksfeste.de/volksfesttermine/lunapark-paderborn-8
CATEGORIES:2026
ATTACH;FMTTYPE=image/jpeg:https://deutsche-volksfeste.de/wp-content/uploads/2024/04/20240420_143915.jpg
END:VEVENT
BEGIN:VEVENT
DTSTART;VALUE=DATE:20260418
DTEND;VALUE=DATE:20260504
DTSTAMP:20260421T151626
CREATED:20251102T090754Z
LAST-MODIFIED:20251102T090754Z
UID:130685-1776470400-1777852799@deutsche-volksfeste.de
SUMMARY:Frühlingsvolksfest\, Gera
DESCRIPTION:
URL:https://deutsche-volksfeste.de/volksfesttermine/fruehlingsvolksfest-gera-9
CATEGORIES:2026
END:VEVENT
BEGIN:VEVENT
DTSTART;VALUE=DATE:20260418
DTEND;VALUE=DATE:20260511
DTSTAMP:20260421T151626
CREATED:20260112T181131Z
LAST-MODIFIED:20260125T091814Z
UID:132196-1776470400-1778457599@deutsche-volksfeste.de
SUMMARY:Frühlingstfest\, Stuttgart
DESCRIPTION:
URL:https://deutsche-volksfeste.de/volksfesttermine/fruehlingstfest-stuttgart-6
CATEGORIES:2026
ATTACH;FMTTYPE=image/jpeg:https://deutsche-volksfeste.de/wp-content/uploads/2019/03/P1320687.jpg
END:VEVENT
END:VCALENDAR