BEGIN:VCALENDAR
VERSION:2.0
PRODID:-//Deutsche Volksfeste - ECPv6.8.3//NONSGML v1.0//EN
CALSCALE:GREGORIAN
METHOD:PUBLISH
X-ORIGINAL-URL:https://deutsche-volksfeste.de
X-WR-CALDESC:Veranstaltungen für Deutsche Volksfeste
REFRESH-INTERVAL;VALUE=DURATION:PT1H
X-Robots-Tag:noindex
X-PUBLISHED-TTL:PT1H
BEGIN:VTIMEZONE
TZID:Europe/Helsinki
BEGIN:DAYLIGHT
TZOFFSETFROM:+0200
TZOFFSETTO:+0300
TZNAME:EEST
DTSTART:20260329T010000
END:DAYLIGHT
BEGIN:STANDARD
TZOFFSETFROM:+0300
TZOFFSETTO:+0200
TZNAME:EET
DTSTART:20261025T010000
END:STANDARD
END:VTIMEZONE
BEGIN:VEVENT
DTSTART;VALUE=DATE:20260212
DTEND;VALUE=DATE:20260217
DTSTAMP:20260422T213751
CREATED:20250925T155909Z
LAST-MODIFIED:20250925T155909Z
UID:128775-1770854400-1771286399@deutsche-volksfeste.de
SUMMARY:Karnevalskirmes\, Hagen
DESCRIPTION:
URL:https://deutsche-volksfeste.de/volksfesttermine/karnevalskirmes-hagen-5
CATEGORIES:2026
END:VEVENT
BEGIN:VEVENT
DTSTART;VALUE=DATE:20260212
DTEND;VALUE=DATE:20260217
DTSTAMP:20260422T213751
CREATED:20251207T152927Z
LAST-MODIFIED:20251207T152927Z
UID:131694-1770854400-1771286399@deutsche-volksfeste.de
SUMMARY:Karnevalskirmes\, Bottrop
DESCRIPTION:
URL:https://deutsche-volksfeste.de/volksfesttermine/karnevalskirmes-bottrop-3
CATEGORIES:2026
END:VEVENT
BEGIN:VEVENT
DTSTART;VALUE=DATE:20260214
DTEND;VALUE=DATE:20260216
DTSTAMP:20260422T213751
CREATED:20251221T084533Z
LAST-MODIFIED:20251221T090839Z
UID:132141-1771027200-1771199999@deutsche-volksfeste.de
SUMMARY:10. Steampunk Jahrmarkt\, Bochum Jahrhunderthalle
DESCRIPTION:Die Ticketpreise an der Tageskasse sind wie folgt: \n\nNormalpreis (ab 12 Jahren): 25\,00 €\nErmäßigt (Kinder von 3 bis einschließlich 11 Jahren): 19\,50 €\nFamilienticket (zwei Vollzahler und bis zu drei Kinder zwischen 3 und 11 Jahren): 72\,00 €\nKinder unter 3 Jahren sowie Menschen mit einem Schwerbehindertenausweis (ab 80 % GdB) erhalten freien Eintritt. Begleitpersonen von Schwerbehinderten zahlen den Normalpreis.\n\nDer Eintrittspreis beinhaltet die unbegrenzte Nutzung aller Fahrgeschäfte.  \nKarten gibt es online im Vorverkauf und vor Ort an der Tageskasse. \nDer Historische Jahrmarkt und seine Sonderveranstaltungen finden an folgenden Terminen statt: \n\nSteampunk im Rahmen des Historischen Jahrmarktes:14. – 15. Februar 2026 | 11:00 – 19:00 Uhr\nRock’n’Roll anne Raupe:20. Februar 2026 | 16:00 – 01:00 Uhr\nHistorischer Jahrmarkt:21. – 22. Februar & 27. Februar – 1. März 2026Freitags: 16:00 – 21:00 Uhr | Samstags & Sonntags: 11:00 – 19:00 Uhr\n\nAlle Angaben ohne Gewähr!
URL:https://deutsche-volksfeste.de/volksfesttermine/10-steampunk-jahrmarkt-bochum-jahrhunderthalle
LOCATION:Jahrhunderthalle\, Bochum
CATEGORIES:2026
ATTACH;FMTTYPE=image/jpeg:https://deutsche-volksfeste.de/wp-content/uploads/2017/11/P1260329.jpg
END:VEVENT
BEGIN:VEVENT
DTSTART;VALUE=DATE:20260215
DTEND;VALUE=DATE:20260218
DTSTAMP:20260422T213751
CREATED:20251020T093125Z
LAST-MODIFIED:20251020T093125Z
UID:129615-1771113600-1771372799@deutsche-volksfeste.de
SUMMARY:Karnevalskirmes\, Köln
DESCRIPTION:
URL:https://deutsche-volksfeste.de/volksfesttermine/karnevalskirmes-koeln-4
CATEGORIES:2026
END:VEVENT
BEGIN:VEVENT
DTSTART;TZID=Europe/Helsinki:20260220T160000
DTEND;TZID=Europe/Helsinki:20260221T010000
DTSTAMP:20260422T213751
CREATED:20251221T085114Z
LAST-MODIFIED:20251221T091027Z
UID:132147-1771603200-1771635600@deutsche-volksfeste.de
SUMMARY:Rock ´n` Roll anne Raupe\, Bochum Jahrhunderthalle
DESCRIPTION:Die Ticketpreise an der Tageskasse sind wie folgt: \n\nNormalpreis (ab 12 Jahren): 25\,00 €\nErmäßigt (Kinder von 3 bis einschließlich 11 Jahren): 19\,50 €\nFamilienticket (zwei Vollzahler und bis zu drei Kinder zwischen 3 und 11 Jahren): 72\,00 €\nKinder unter 3 Jahren sowie Menschen mit einem Schwerbehindertenausweis (ab 80 % GdB) erhalten freien Eintritt. Begleitpersonen von Schwerbehinderten zahlen den Normalpreis.\n\nDer Eintrittspreis beinhaltet die unbegrenzte Nutzung aller Fahrgeschäfte.  \nKarten gibt es online im Vorverkauf und vor Ort an der Tageskasse. \nDer Historische Jahrmarkt und seine Sonderveranstaltungen finden an folgenden Terminen statt: \n\nSteampunk im Rahmen des Historischen Jahrmarktes:14. – 15. Februar 2026 | 11:00 – 19:00 Uhr\nRock’n’Roll anne Raupe:20. Februar 2026 | 16:00 – 01:00 Uhr\nHistorischer Jahrmarkt:21. – 22. Februar & 27. Februar – 1. März 2026Freitags: 16:00 – 21:00 Uhr | Samstags & Sonntags: 11:00 – 19:00 Uhr\n\nAlle Angaben ohne Gewähr!
URL:https://deutsche-volksfeste.de/volksfesttermine/rock-n-roll-anne-raupe-bochum-jahrhunderthalle-3
LOCATION:Jahrhunderthalle\, Bochum
CATEGORIES:2026
ATTACH;FMTTYPE=image/jpeg:https://deutsche-volksfeste.de/wp-content/uploads/2025/02/P1089990.jpg
END:VEVENT
BEGIN:VEVENT
DTSTART;VALUE=DATE:20260221
DTEND;VALUE=DATE:20260223
DTSTAMP:20260422T213751
CREATED:20251221T084645Z
LAST-MODIFIED:20251221T090731Z
UID:132143-1771632000-1771804799@deutsche-volksfeste.de
SUMMARY:17. Historischer Jahrmarkt\, Bochum Jahrhunderthalle
DESCRIPTION:Die Ticketpreise an der Tageskasse sind wie folgt: \n\nNormalpreis (ab 12 Jahren): 25\,00 €\nErmäßigt (Kinder von 3 bis einschließlich 11 Jahren): 19\,50 €\nFamilienticket (zwei Vollzahler und bis zu drei Kinder zwischen 3 und 11 Jahren): 72\,00 €\nKinder unter 3 Jahren sowie Menschen mit einem Schwerbehindertenausweis (ab 80 % GdB) erhalten freien Eintritt. Begleitpersonen von Schwerbehinderten zahlen den Normalpreis.\n\nDer Eintrittspreis beinhaltet die unbegrenzte Nutzung aller Fahrgeschäfte.  \nKarten gibt es online im Vorverkauf und vor Ort an der Tageskasse. \nDer Historische Jahrmarkt und seine Sonderveranstaltungen finden an folgenden Terminen statt: \n\nSteampunk im Rahmen des Historischen Jahrmarktes:14. – 15. Februar 2026 | 11:00 – 19:00 Uhr\nRock’n’Roll anne Raupe:20. Februar 2026 | 16:00 – 01:00 Uhr\nHistorischer Jahrmarkt:21. – 22. Februar & 27. Februar – 1. März 2026Freitags: 16:00 – 21:00 Uhr | Samstags & Sonntags: 11:00 – 19:00 Uhr\n\nAlle Angaben ohne Gewähr!
URL:https://deutsche-volksfeste.de/volksfesttermine/17-historischer-jahrmarkt-bochum-jahrhunderthalle
CATEGORIES:2026
ATTACH;FMTTYPE=image/jpeg:https://deutsche-volksfeste.de/wp-content/uploads/2024/02/P1062446.jpg
END:VEVENT
BEGIN:VEVENT
DTSTART;VALUE=DATE:20260227
DTEND;VALUE=DATE:20260302
DTSTAMP:20260422T213751
CREATED:20250311T173311Z
LAST-MODIFIED:20260121T182905Z
UID:121758-1772150400-1772409599@deutsche-volksfeste.de
SUMMARY:St.-Petri-Markt\, Versmold
DESCRIPTION:
URL:https://deutsche-volksfeste.de/volksfesttermine/st-petri-markt-versmold-9
CATEGORIES:2026
ATTACH;FMTTYPE=image/jpeg:https://deutsche-volksfeste.de/wp-content/uploads/2017/11/Versmold.jpg
END:VEVENT
BEGIN:VEVENT
DTSTART;VALUE=DATE:20260227
DTEND;VALUE=DATE:20260303
DTSTAMP:20260422T213752
CREATED:20251207T154320Z
LAST-MODIFIED:20251207T154320Z
UID:131702-1772150400-1772495999@deutsche-volksfeste.de
SUMMARY:Frühjahrskirmes\, Wuppertal
DESCRIPTION:Berliner Platz
URL:https://deutsche-volksfeste.de/volksfesttermine/fruehjahrskirmes-wuppertal-4
CATEGORIES:2026
END:VEVENT
BEGIN:VEVENT
DTSTART;VALUE=DATE:20260227
DTEND;VALUE=DATE:20260302
DTSTAMP:20260422T213752
CREATED:20251221T084730Z
LAST-MODIFIED:20251221T090746Z
UID:132145-1772150400-1772409599@deutsche-volksfeste.de
SUMMARY:17. Historischer Jahrmarkt\, Bochum Jahrhunderthalle
DESCRIPTION:Die Ticketpreise an der Tageskasse sind wie folgt: \n\nNormalpreis (ab 12 Jahren): 25\,00 €\nErmäßigt (Kinder von 3 bis einschließlich 11 Jahren): 19\,50 €\nFamilienticket (zwei Vollzahler und bis zu drei Kinder zwischen 3 und 11 Jahren): 72\,00 €\nKinder unter 3 Jahren sowie Menschen mit einem Schwerbehindertenausweis (ab 80 % GdB) erhalten freien Eintritt. Begleitpersonen von Schwerbehinderten zahlen den Normalpreis.\n\nDer Eintrittspreis beinhaltet die unbegrenzte Nutzung aller Fahrgeschäfte.  \nKarten gibt es online im Vorverkauf und vor Ort an der Tageskasse. \nDer Historische Jahrmarkt und seine Sonderveranstaltungen finden an folgenden Terminen statt: \n\nSteampunk im Rahmen des Historischen Jahrmarktes:14. – 15. Februar 2026 | 11:00 – 19:00 Uhr\nRock’n’Roll anne Raupe:20. Februar 2026 | 16:00 – 01:00 Uhr\nHistorischer Jahrmarkt:21. – 22. Februar & 27. Februar – 1. März 2026Freitags: 16:00 – 21:00 Uhr | Samstags & Sonntags: 11:00 – 19:00 Uhr\n\nAlle Angaben ohne Gewähr!
URL:https://deutsche-volksfeste.de/volksfesttermine/17-historischer-jahrmarkt-bochum-jahrhunderthalle-2
LOCATION:Jahrhunderthalle\, Bochum
CATEGORIES:2026
ATTACH;FMTTYPE=image/jpeg:https://deutsche-volksfeste.de/wp-content/uploads/2018/02/P1400572.jpg
END:VEVENT
BEGIN:VEVENT
DTSTART;VALUE=DATE:20260227
DTEND;VALUE=DATE:20260303
DTSTAMP:20260422T213752
CREATED:20260217T164932Z
LAST-MODIFIED:20260217T164932Z
UID:132270-1772150400-1772495999@deutsche-volksfeste.de
SUMMARY:Frühjahrs-Kirmes\, Datteln
DESCRIPTION:
URL:https://deutsche-volksfeste.de/volksfesttermine/fruehjahrs-kirmes-datteln-5
CATEGORIES:2026
ATTACH;FMTTYPE=image/jpeg:https://deutsche-volksfeste.de/wp-content/uploads/2022/03/P1005690.jpg
END:VEVENT
END:VCALENDAR